BEGIN:VCALENDAR
VERSION:2.0
PRODID:-//hacksw/handcal//NONSGML v1.0//EN
BEGIN:VEVENT
SUMMARY:Venez tester une seance MARCHE NORDIQUE encadree par des animateurs diplomes.
UID:b9c5ba30-35cc-4631-a690-3ca34c01e160
DTSTART:20260411T073000Z
DTEND:20260411T090000Z
LOCATION:Localisation   
CATEGORIES:Sportif
STATUS:
DESCRIPTION:<p>Licencie(e) ou non licencie(e), cette initiation est
 accessible a tous. Decouvrez le plaisir de marcher et d'apprendre les
 postures de la marche nordique. Rendez-vous dans le magasin Decathlon
 des Ponts de Ce pour le pret de batons. Mise en route a 9 h 30.</p>
URL;VALUE=URI:https://www.athlepontsdece.com/evenements/2026/04/11/venez-tester-une-seance-marche-nordique-encadree-par-des-animateurs-diplomes-2340303
END:VEVENT
END:VCALENDAR
